BEGIN:VCALENDAR
VERSION:2.0
PRODID:-//Christ Congregational United Church of Christ - ECPv6.15.20//NONSGML v1.0//EN
CALSCALE:GREGORIAN
METHOD:PUBLISH
X-ORIGINAL-URL:https://christcongregationalucc.org
X-WR-CALDESC:Events for Christ Congregational United Church of Christ
REFRESH-INTERVAL;VALUE=DURATION:PT1H
X-Robots-Tag:noindex
X-PUBLISHED-TTL:PT1H
BEGIN:VTIMEZONE
TZID:UTC
BEGIN:STANDARD
TZOFFSETFROM:+0000
TZOFFSETTO:+0000
TZNAME:UTC
DTSTART:20230101T000000
END:STANDARD
END:VTIMEZONE
BEGIN:VEVENT
DTSTART;TZID=UTC:20250405T100000
DTEND;TZID=UTC:20250405T130000
DTSTAMP:20260420T000429
CREATED:20250324T125916Z
LAST-MODIFIED:20250330T130204Z
UID:10000940-1743847200-1743858000@christcongregationalucc.org
SUMMARY:Spiritual Spa Day 2025
DESCRIPTION:
URL:https://christcongregationalucc.org/event/spiritual-spa-day-2025/
LOCATION:Christ Congregational UCC\, 14920 SW 67th Avenue\, Palmetto Bay\, FL\, 33158\, United States
CATEGORIES:Community Events
ATTACH;FMTTYPE=image/jpeg:https://christcongregationalucc.org/wp-content/uploads/2025/03/Spiritual-Spa-Day-1.jpg
END:VEVENT
BEGIN:VEVENT
DTSTART;TZID=UTC:20250125T163000
DTEND;TZID=UTC:20250125T183000
DTSTAMP:20260420T000429
CREATED:20250114T193127Z
LAST-MODIFIED:20250114T193127Z
UID:10000928-1737822600-1737829800@christcongregationalucc.org
SUMMARY:Bobby Jo Valentine Concert
DESCRIPTION:Date: January 25th\nTime: 4:00 PM\nLocation: Christ Congregational United Church of Christ \nJoin us for an unforgettable evening with Bobby Jo Valentine\, a singer-songwriter known for his heartfelt lyrics and soul-stirring melodies. Whether you’re a long-time fan or new to his music\, Bobby Jo’s performance promises to inspire and connect with every listener. \nAfter the concert\, enjoy a Free Community Dinner\, where we can share stories\, connect with neighbors\, and celebrate the joy of community together. \nThis event is free and open to all—bring your friends\, family\, and a heart ready for music and fellowship! \nWe can’t wait to see you there!
URL:https://christcongregationalucc.org/event/bobby-jo-valentine-concert/
LOCATION:Christ Congregational UCC\, 14920 SW 67th Avenue\, Palmetto Bay\, FL\, 33158\, United States
CATEGORIES:Community Events
ATTACH;FMTTYPE=image/jpeg:https://christcongregationalucc.org/wp-content/uploads/2025/01/Bobby-Jo-2.jpg
END:VEVENT
BEGIN:VEVENT
DTSTART;TZID=UTC:20241227T183000
DTEND;TZID=UTC:20241227T193000
DTSTAMP:20260420T000429
CREATED:20241207T154407Z
LAST-MODIFIED:20241207T154407Z
UID:10000925-1735324200-1735327800@christcongregationalucc.org
SUMMARY:FREE Mindfulness Hour
DESCRIPTION:Feeling the Holiday Blues? Take a Stress Break! \nJoin us for a FREE Mindfulness Hour designed to help you unwind\, relax\, and restore your inner peace. \nWhen: Friday\, December 27th at 6:30 PM\nWhere: Christ Congregational United Church of Christ \nExperience the calming resonance of Epiphanie’s singing bowls and steel tongue drums\, as you’re guided through a peaceful meditation session. \nThis event is open to everyone and is the perfect opportunity to reconnect with yourself during the busy holiday season. \nFor more information\, visit: www.christcongregationalucc.org \nTake a moment for yourself – you deserve it!
URL:https://christcongregationalucc.org/event/free-mindfulness-hour/
LOCATION:Christ Congregational UCC\, 14920 SW 67th Avenue\, Palmetto Bay\, FL\, 33158\, United States
CATEGORIES:Community Events
ATTACH;FMTTYPE=image/jpeg:https://christcongregationalucc.org/wp-content/uploads/2024/12/Mindfulness-Hour.jpg
END:VEVENT
BEGIN:VEVENT
DTSTART;TZID=UTC:20241224T183000
DTEND;TZID=UTC:20241224T193000
DTSTAMP:20260420T000429
CREATED:20241220T215555Z
LAST-MODIFIED:20241220T215555Z
UID:10000927-1735065000-1735068600@christcongregationalucc.org
SUMMARY:Christmas Eve Candlelight Service
DESCRIPTION:🎄 Join Us for a Special Christmas Eve Candlelight Service! 🎄 \nCelebrate the joyous season with Christ Congregational United Church of Christ this Christmas Eve! Gather with friends and family for a meaningful evening filled with warmth\, community\, and the spirit of the holidays. \n🕯️ Date & Time:\nSunday\, December 24th\, at 6:30 PM \n✨ Highlights: \n\nA beautiful candlelighting ceremony to mark the sacred night.\nHeartfelt music and hymns celebrating the birth of Christ.\nWarm fellowship with refreshments and festive cheer.\n\nCome as you are\, and experience a service that welcomes all to share in the joy and love of Christmas. We can’t wait to celebrate with you! \n📍 Location:\nChrist Congregational United Church of Christ \nLet’s make this Christmas Eve a night to remember! 🌟
URL:https://christcongregationalucc.org/event/christmas-eve-candlelight-service/
LOCATION:Christ Congregational UCC\, 14920 SW 67th Avenue\, Palmetto Bay\, FL\, 33158\, United States
CATEGORIES:Community Events,Worship
ATTACH;FMTTYPE=image/jpeg:https://christcongregationalucc.org/wp-content/uploads/2024/12/Christmas-Eve.jpg
END:VEVENT
BEGIN:VEVENT
DTSTART;TZID=UTC:20241102T120000
DTEND;TZID=UTC:20241102T150000
DTSTAMP:20260420T000429
CREATED:20241002T155932Z
LAST-MODIFIED:20241029T205853Z
UID:10000846-1730548800-1730559600@christcongregationalucc.org
SUMMARY:Fall Festival
DESCRIPTION:Christ Congregational Church is hosting our 2nd annual Fall Festival! We welcome everyone to this wonderful FREE event. Enjoy free food\, live music\, DJ\, art gallery\, crafts\, activities\, vendors\, resource booths and much more!
URL:https://christcongregationalucc.org/event/fall-festival/
LOCATION:Christ Congregational UCC\, 14920 SW 67th Avenue\, Palmetto Bay\, FL\, 33158\, United States
CATEGORIES:Community Events
ATTACH;FMTTYPE=image/jpeg:https://christcongregationalucc.org/wp-content/uploads/2024/09/FB_IMG_1727560123343.jpg
END:VEVENT
END:VCALENDAR