BEGIN:VCALENDAR
VERSION:2.0
PRODID:-//Christ Congregational United Church of Christ - ECPv6.15.20//NONSGML v1.0//EN
CALSCALE:GREGORIAN
METHOD:PUBLISH
X-ORIGINAL-URL:https://christcongregationalucc.org
X-WR-CALDESC:Events for Christ Congregational United Church of Christ
REFRESH-INTERVAL;VALUE=DURATION:PT1H
X-Robots-Tag:noindex
X-PUBLISHED-TTL:PT1H
BEGIN:VTIMEZONE
TZID:UTC
BEGIN:STANDARD
TZOFFSETFROM:+0000
TZOFFSETTO:+0000
TZNAME:UTC
DTSTART:20240101T000000
END:STANDARD
END:VTIMEZONE
BEGIN:VEVENT
DTSTART;TZID=UTC:20251219T183000
DTEND;TZID=UTC:20251219T193000
DTSTAMP:20260420T034156
CREATED:20251213T134821Z
LAST-MODIFIED:20251213T134821Z
UID:10001231-1766169000-1766172600@christcongregationalucc.org
SUMMARY:Soothing Sounds Mindfulness Hour: A Holiday Respite
DESCRIPTION:The holidays often stir the waters of the subconscious. Memories surface\, expectations tighten\, and old patterns try to reclaim us. In moments like these\, the soul needs gentleness. This Soothing Sounds Mindfulness Hour offers exactly that. \nOn Friday\, December 19 at 6:30 PM\, step into a quiet space where healing vibrations from singing bowls and steel tongue drums invite you to return to your center. As Epiphanie guides the experience\, the body softens\, breath steadies\, and the inner light that trauma sometimes veils begins to shine again. \nThis hour is a gift to anyone longing for peace in a season that can feel overwhelming. It is a space where your authentic self is welcomed without judgment\, where the community witnesses your vulnerability as strength\, and where you can release the loops that keep you from living freely. \nLet the sounds wash over you. Let stillness remind you of who you truly are. Leave with a renewed sense of clarity\, ready to engage the world from a place of grounded presence and spiritual wholeness.
URL:https://christcongregationalucc.org/event/soothing-sounds-mindfulness-hour-a-holiday-respite/
LOCATION:FL
CATEGORIES:Community Events
ATTACH;FMTTYPE=image/webp:https://christcongregationalucc.org/wp-content/uploads/2025/12/Soothing-Sounds-Holidays-Web.webp
END:VEVENT
END:VCALENDAR