BEGIN:VCALENDAR
VERSION:2.0
PRODID:-//Christ Congregational United Church of Christ - ECPv6.15.20//NONSGML v1.0//EN
CALSCALE:GREGORIAN
METHOD:PUBLISH
X-WR-CALNAME:Christ Congregational United Church of Christ
X-ORIGINAL-URL:https://christcongregationalucc.org
X-WR-CALDESC:Events for Christ Congregational United Church of Christ
REFRESH-INTERVAL;VALUE=DURATION:PT1H
X-Robots-Tag:noindex
X-PUBLISHED-TTL:PT1H
BEGIN:VTIMEZONE
TZID:UTC
BEGIN:STANDARD
TZOFFSETFROM:+0000
TZOFFSETTO:+0000
TZNAME:UTC
DTSTART:20240101T000000
END:STANDARD
END:VTIMEZONE
BEGIN:VEVENT
DTSTART;TZID=UTC:20250518T123000
DTEND;TZID=UTC:20250518T133000
DTSTAMP:20260420T132607
CREATED:20250507T214103Z
LAST-MODIFIED:20250517T214449Z
UID:10001226-1747571400-1747575000@christcongregationalucc.org
SUMMARY:Good Trouble Begins Here: Learning Who Represents You
DESCRIPTION:Date & Time:Saturday\, May 18\, 202512:30 PM (Right after worship) \nLocation:Christ Congregational Church – Kelsey Hall14920 SW 67th Ave\, Miami\, FL 33158 \nDescription:Join us for a powerful Lunch & Learn where we’ll explore what it means to make “Good Trouble” by understanding who represents us in local and state government. This engaging session will help us connect our faith and values with civic responsibility by learning who holds power\, what they do\, and how their decisions impact our daily lives. \nCome discover how to advocate for your community\, strengthen your voice\, and build a bridge between belief and action. Lunch will be provided\, and all are welcome! \nWhy Attend?Because Good Trouble starts with knowing who represents you. As John Lewis reminds us\, “Never\, ever be afraid to make some noise and get in good trouble.” \nHosted by:Christ Congregational United Church of Christwww.christcongregationalucc.org \nAdmission: Free. Open to all.
URL:https://christcongregationalucc.org/event/good-trouble-begins-here-learning-who-represents-you/
LOCATION:Christ Congregational UCC\, 14920 SW 67th Avenue\, Palmetto Bay\, FL\, 33158\, United States
CATEGORIES:Community Events
ATTACH;FMTTYPE=image/jpeg:https://christcongregationalucc.org/wp-content/uploads/2025/05/Lunch-and-Learn-Good-Trouble-1.jpg
END:VEVENT
END:VCALENDAR