BEGIN:VCALENDAR
VERSION:2.0
PRODID:-//Christ Congregational United Church of Christ - ECPv6.15.20//NONSGML v1.0//EN
CALSCALE:GREGORIAN
METHOD:PUBLISH
X-ORIGINAL-URL:https://christcongregationalucc.org
X-WR-CALDESC:Events for Christ Congregational United Church of Christ
REFRESH-INTERVAL;VALUE=DURATION:PT1H
X-Robots-Tag:noindex
X-PUBLISHED-TTL:PT1H
BEGIN:VTIMEZONE
TZID:UTC
BEGIN:STANDARD
TZOFFSETFROM:+0000
TZOFFSETTO:+0000
TZNAME:UTC
DTSTART:20240101T000000
END:STANDARD
END:VTIMEZONE
BEGIN:VEVENT
DTSTART;TZID=UTC:20250419T100000
DTEND;TZID=UTC:20250419T140000
DTSTAMP:20260421T145406
CREATED:20250328T124343Z
LAST-MODIFIED:20250330T125059Z
UID:10000939-1745056800-1745071200@christcongregationalucc.org
SUMMARY:Citizen Drive
DESCRIPTION:
URL:https://christcongregationalucc.org/event/citizen-drive/
LOCATION:Everglades Village\, 19308 SW 380 ST\, Florida City\, FL\, 33034\, United States
CATEGORIES:Citizen Drive
ATTACH;FMTTYPE=image/jpeg:https://christcongregationalucc.org/wp-content/uploads/2025/03/Citizen-Drive-2.jpg
END:VEVENT
END:VCALENDAR