BEGIN:VCALENDAR
VERSION:2.0
PRODID:-//Christ Congregational United Church of Christ - ECPv6.15.20//NONSGML v1.0//EN
CALSCALE:GREGORIAN
METHOD:PUBLISH
X-ORIGINAL-URL:https://christcongregationalucc.org
X-WR-CALDESC:Events for Christ Congregational United Church of Christ
REFRESH-INTERVAL;VALUE=DURATION:PT1H
X-Robots-Tag:noindex
X-PUBLISHED-TTL:PT1H
BEGIN:VTIMEZONE
TZID:UTC
BEGIN:STANDARD
TZOFFSETFROM:+0000
TZOFFSETTO:+0000
TZNAME:UTC
DTSTART:20240101T000000
END:STANDARD
END:VTIMEZONE
BEGIN:VEVENT
DTSTART;TZID=UTC:20250702T180000
DTEND;TZID=UTC:20250702T190000
DTSTAMP:20260420T190208
CREATED:20241015T021255Z
LAST-MODIFIED:20250114T193414Z
UID:10000299-1751479200-1751482800@christcongregationalucc.org
SUMMARY:Chair Yoga
DESCRIPTION:This class is done primarily sitting in a chair and is ideal for people with limited mobility.\n\nIt is important that you sign up because classes fill up very quickly. The form MUST be completed for each person attending.These classes are for people ages 16 and up. https://forms.office.com/r/E1VEUUzfbw\n\n*Please note that you will have to fill out a release form when you attend the class for the first time. (In-Person)
URL:https://christcongregationalucc.org/event/chair-yoga/2025-07-02/
LOCATION:Christ Congregational UCC\, 14920 SW 67th Avenue\, Palmetto Bay\, FL\, 33158\, United States
CATEGORIES:Chair Yoga
ATTACH;FMTTYPE=image/jpeg:https://christcongregationalucc.org/wp-content/uploads/2024/10/Yoga-2.jpg
END:VEVENT
BEGIN:VEVENT
DTSTART;TZID=UTC:20250709T180000
DTEND;TZID=UTC:20250709T190000
DTSTAMP:20260420T190208
CREATED:20241015T021255Z
LAST-MODIFIED:20250114T193414Z
UID:10000300-1752084000-1752087600@christcongregationalucc.org
SUMMARY:Chair Yoga
DESCRIPTION:This class is done primarily sitting in a chair and is ideal for people with limited mobility.\n\nIt is important that you sign up because classes fill up very quickly. The form MUST be completed for each person attending.These classes are for people ages 16 and up. https://forms.office.com/r/E1VEUUzfbw\n\n*Please note that you will have to fill out a release form when you attend the class for the first time. (In-Person)
URL:https://christcongregationalucc.org/event/chair-yoga/2025-07-09/
LOCATION:Christ Congregational UCC\, 14920 SW 67th Avenue\, Palmetto Bay\, FL\, 33158\, United States
CATEGORIES:Chair Yoga
ATTACH;FMTTYPE=image/jpeg:https://christcongregationalucc.org/wp-content/uploads/2024/10/Yoga-2.jpg
END:VEVENT
BEGIN:VEVENT
DTSTART;TZID=UTC:20250716T180000
DTEND;TZID=UTC:20250716T190000
DTSTAMP:20260420T190208
CREATED:20241015T021255Z
LAST-MODIFIED:20250114T193414Z
UID:10000301-1752688800-1752692400@christcongregationalucc.org
SUMMARY:Chair Yoga
DESCRIPTION:This class is done primarily sitting in a chair and is ideal for people with limited mobility.\n\nIt is important that you sign up because classes fill up very quickly. The form MUST be completed for each person attending.These classes are for people ages 16 and up. https://forms.office.com/r/E1VEUUzfbw\n\n*Please note that you will have to fill out a release form when you attend the class for the first time. (In-Person)
URL:https://christcongregationalucc.org/event/chair-yoga/2025-07-16/
LOCATION:Christ Congregational UCC\, 14920 SW 67th Avenue\, Palmetto Bay\, FL\, 33158\, United States
CATEGORIES:Chair Yoga
ATTACH;FMTTYPE=image/jpeg:https://christcongregationalucc.org/wp-content/uploads/2024/10/Yoga-2.jpg
END:VEVENT
BEGIN:VEVENT
DTSTART;TZID=UTC:20250723T180000
DTEND;TZID=UTC:20250723T190000
DTSTAMP:20260420T190208
CREATED:20241015T021255Z
LAST-MODIFIED:20250114T193414Z
UID:10000302-1753293600-1753297200@christcongregationalucc.org
SUMMARY:Chair Yoga
DESCRIPTION:This class is done primarily sitting in a chair and is ideal for people with limited mobility.\n\nIt is important that you sign up because classes fill up very quickly. The form MUST be completed for each person attending.These classes are for people ages 16 and up. https://forms.office.com/r/E1VEUUzfbw\n\n*Please note that you will have to fill out a release form when you attend the class for the first time. (In-Person)
URL:https://christcongregationalucc.org/event/chair-yoga/2025-07-23/
LOCATION:Christ Congregational UCC\, 14920 SW 67th Avenue\, Palmetto Bay\, FL\, 33158\, United States
CATEGORIES:Chair Yoga
ATTACH;FMTTYPE=image/jpeg:https://christcongregationalucc.org/wp-content/uploads/2024/10/Yoga-2.jpg
END:VEVENT
BEGIN:VEVENT
DTSTART;TZID=UTC:20250730T180000
DTEND;TZID=UTC:20250730T190000
DTSTAMP:20260420T190208
CREATED:20241015T021255Z
LAST-MODIFIED:20250114T193414Z
UID:10000303-1753898400-1753902000@christcongregationalucc.org
SUMMARY:Chair Yoga
DESCRIPTION:This class is done primarily sitting in a chair and is ideal for people with limited mobility.\n\nIt is important that you sign up because classes fill up very quickly. The form MUST be completed for each person attending.These classes are for people ages 16 and up. https://forms.office.com/r/E1VEUUzfbw\n\n*Please note that you will have to fill out a release form when you attend the class for the first time. (In-Person)
URL:https://christcongregationalucc.org/event/chair-yoga/2025-07-30/
LOCATION:Christ Congregational UCC\, 14920 SW 67th Avenue\, Palmetto Bay\, FL\, 33158\, United States
CATEGORIES:Chair Yoga
ATTACH;FMTTYPE=image/jpeg:https://christcongregationalucc.org/wp-content/uploads/2024/10/Yoga-2.jpg
END:VEVENT
END:VCALENDAR